BEGIN:VCALENDAR
VERSION:2.0
PRODID:-//Lewisham Parent &amp; Carer&#039;s Forum - ECPv5.1.4//NONSGML v1.0//EN
CALSCALE:GREGORIAN
METHOD:PUBLISH
X-WR-CALNAME:Lewisham Parent &amp; Carer&#039;s Forum
X-ORIGINAL-URL:https://lewishamparentcarer.org.uk
X-WR-CALDESC:Events for Lewisham Parent &amp; Carer&#039;s Forum
BEGIN:VTIMEZONE
TZID:Europe/London
BEGIN:DAYLIGHT
TZOFFSETFROM:+0000
TZOFFSETTO:+0100
TZNAME:BST
DTSTART:20260329T010000
END:DAYLIGHT
BEGIN:STANDARD
TZOFFSETFROM:+0100
TZOFFSETTO:+0000
TZNAME:GMT
DTSTART:20261025T010000
END:STANDARD
END:VTIMEZONE
BEGIN:VEVENT
DTSTART;TZID=Europe/London:20260121T180000
DTEND;TZID=Europe/London:20260121T210000
DTSTAMP:20260425T123516
CREATED:20251208T135323Z
LAST-MODIFIED:20251208T135323Z
UID:13797-1769018400-1769029200@lewishamparentcarer.org.uk
SUMMARY:Disability Sport Coach Inclusive Coaching Workshop
DESCRIPTION:Lewisham - DSC Inclusive Coaching Course\n
URL:https://lewishamparentcarer.org.uk/event/disability-sport-coach-inclusive-coaching-workshop/
LOCATION:Bellingham Family Hub\, 109 Randlesdown Road\, SE6 3HB
CATEGORIES:Local Events
ATTACH;FMTTYPE=image/jpeg:https://lewishamparentcarer.org.uk/wp-content/uploads/2025/12/Lewisham-DSC-Inclusive-Coaching-Course.jpg
END:VEVENT
END:VCALENDAR