BEGIN:VCALENDAR
VERSION:2.0
PRODID:-//Lewisham Parent &amp; Carer&#039;s Forum - ECPv5.1.4//NONSGML v1.0//EN
CALSCALE:GREGORIAN
METHOD:PUBLISH
X-WR-CALNAME:Lewisham Parent &amp; Carer&#039;s Forum
X-ORIGINAL-URL:https://lewishamparentcarer.org.uk
X-WR-CALDESC:Events for Lewisham Parent &amp; Carer&#039;s Forum
BEGIN:VTIMEZONE
TZID:Europe/London
BEGIN:DAYLIGHT
TZOFFSETFROM:+0000
TZOFFSETTO:+0100
TZNAME:BST
DTSTART:20250330T010000
END:DAYLIGHT
BEGIN:STANDARD
TZOFFSETFROM:+0100
TZOFFSETTO:+0000
TZNAME:GMT
DTSTART:20251026T010000
END:STANDARD
END:VTIMEZONE
BEGIN:VEVENT
DTSTART;TZID=Europe/London:20251209T100000
DTEND;TZID=Europe/London:20251209T113000
DTSTAMP:20260420T093019
CREATED:20251208T135711Z
LAST-MODIFIED:20251208T135711Z
UID:13806-1765274400-1765279800@lewishamparentcarer.org.uk
SUMMARY:Supporting your Child with their Learning
DESCRIPTION:Supporting your Child with their Learning (1)\n
URL:https://lewishamparentcarer.org.uk/event/supporting-your-child-with-their-learning-5/
LOCATION:Drumbeat Turnham\, Turnham Road\, Brockley\, London\, SE4 2HH\, United Kingdom
CATEGORIES:Local Events
ATTACH;FMTTYPE=image/jpeg:https://lewishamparentcarer.org.uk/wp-content/uploads/2025/12/Supporting-your-Child-with-their-Learning-1.jpg
END:VEVENT
END:VCALENDAR