BEGIN:VCALENDAR
VERSION:2.0
PRODID:-//Lewisham Parent &amp; Carer&#039;s Forum - ECPv5.1.4//NONSGML v1.0//EN
CALSCALE:GREGORIAN
METHOD:PUBLISH
X-WR-CALNAME:Lewisham Parent &amp; Carer&#039;s Forum
X-ORIGINAL-URL:https://lewishamparentcarer.org.uk
X-WR-CALDESC:Events for Lewisham Parent &amp; Carer&#039;s Forum
BEGIN:VTIMEZONE
TZID:Europe/London
BEGIN:DAYLIGHT
TZOFFSETFROM:+0000
TZOFFSETTO:+0100
TZNAME:BST
DTSTART:20260329T010000
END:DAYLIGHT
BEGIN:STANDARD
TZOFFSETFROM:+0100
TZOFFSETTO:+0000
TZNAME:GMT
DTSTART:20261025T010000
END:STANDARD
END:VTIMEZONE
BEGIN:VEVENT
DTSTART;TZID=Europe/London:20260128T100000
DTEND;TZID=Europe/London:20260128T113000
DTSTAMP:20260420T093555
CREATED:20260126T143826Z
LAST-MODIFIED:20260126T143826Z
UID:13866-1769594400-1769599800@lewishamparentcarer.org.uk
SUMMARY:Coffee Morning - Drop In
DESCRIPTION:
URL:https://lewishamparentcarer.org.uk/event/coffee-morning-drop-in/2026-01-28/
LOCATION:Catford Costa Coffee\, 14-15 Catford Broadway\, London\, SE6 4GB\, United Kingdom
CATEGORIES:Parent Forum Events
ATTACH;FMTTYPE=image/jpeg:https://lewishamparentcarer.org.uk/wp-content/uploads/2026/01/Coffee-morning-flyer-dates-2026.jpg
END:VEVENT
END:VCALENDAR